BEGIN:VCALENDAR
VERSION:2.0
PRODID:-//eventon.com NONSGML v1.0//EN
CALSCALE:GREGORIAN
METHOD:PUBLISH
BEGIN:VEVENT
UID:69e612b18ef24
DTSTAMP:20260420T114905Z
DTSTART:20260419T190000Z
DTEND:20260419T235000Z
LOCATION:
SUMMARY:LIVE Acoustic Session Q2/26
DESCRIPTION:Ackerhaus in der Tonenburg 1\, 37671 Höxter - Albaxen\nhttps:/
 /acoustic-session-weserbergland.de/events/live-acoustic-session-q2-26/
URL:https://acoustic-session-weserbergland.de/events/live-acoustic-session-q2-26/
END:VEVENT
END:VCALENDAR